BEGIN:VCALENDAR
VERSION:2.0
PRODID:-//PDX Farmers Market//pdxfarmersmarket.com//EN
CALSCALE:GREGORIAN
BEGIN:VTIMEZONE
TZID:America/Los_Angeles
BEGIN:STANDARD
DTSTART:19701101T020000
RRULE:FREQ=YEARLY;BYDAY=1SU;BYMONTH=11
TZOFFSETFROM:-0700
TZOFFSETTO:-0800
TZNAME:PST
END:STANDARD
BEGIN:DAYLIGHT
DTSTART:19700308T020000
RRULE:FREQ=YEARLY;BYDAY=2SU;BYMONTH=3
TZOFFSETFROM:-0800
TZOFFSETTO:-0700
TZNAME:PDT
END:DAYLIGHT
END:VTIMEZONE
BEGIN:VEVENT
UID:woodstock-farmers-market@pdxfarmersmarket.com
DTSTAMP:20260421T164451Z
DTSTART;TZID=America/Los_Angeles:20260607T100000
DTEND;TZID=America/Los_Angeles:20260607T140000
RRULE:FREQ=WEEKLY;BYDAY=SU;UNTIL=20261031T235959
SUMMARY:Woodstock Farmers Market
LOCATION:4600 SE Woodstock Blvd\, Portland\, OR
DESCRIPTION:A popular SE Portland market in the Woodstock neighborhood feat
 uring local produce\, crafts\, and seasonal food. SNAP matched up to $20/w
 eek via Double Up Food Bucks. No dogs allowed except service animals.\n\nh
 ttps://woodstockmarketpdx.com
URL:https://pdxfarmersmarket.com/markets/woodstock-farmers-market
END:VEVENT
END:VCALENDAR