BEGIN:VCALENDAR
VERSION:2.0
PRODID:-//PDX Farmers Market//pdxfarmersmarket.com//EN
CALSCALE:GREGORIAN
BEGIN:VTIMEZONE
TZID:America/Los_Angeles
BEGIN:STANDARD
DTSTART:19701101T020000
RRULE:FREQ=YEARLY;BYDAY=1SU;BYMONTH=11
TZOFFSETFROM:-0700
TZOFFSETTO:-0800
TZNAME:PST
END:STANDARD
BEGIN:DAYLIGHT
DTSTART:19700308T020000
RRULE:FREQ=YEARLY;BYDAY=2SU;BYMONTH=3
TZOFFSETFROM:-0800
TZOFFSETTO:-0700
TZNAME:PDT
END:DAYLIGHT
END:VTIMEZONE
BEGIN:VEVENT
UID:woodlawn-farmers-market@pdxfarmersmarket.com
DTSTAMP:20260421T164408Z
DTSTART;TZID=America/Los_Angeles:20260425T100000
DTEND;TZID=America/Los_Angeles:20260425T140000
RRULE:FREQ=WEEKLY;BYDAY=SA
SUMMARY:Woodlawn Farmers Market
LOCATION:NE Dekum St & NE Durham Ave\, Portland\, OR
DESCRIPTION:A small neighborhood market born from the community's desire to
  connect residents with small local farms. Summer market runs June–October
 \; monthly winter market November–May at Classic Foods Outlet.\n\nhttps://
 www.woodlawnfarmersmarket.org
URL:https://pdxfarmersmarket.com/markets/woodlawn-farmers-market
END:VEVENT
END:VCALENDAR