BEGIN:VCALENDAR
VERSION:2.0
PRODID:-//PDX Farmers Market//pdxfarmersmarket.com//EN
CALSCALE:GREGORIAN
BEGIN:VTIMEZONE
TZID:America/Los_Angeles
BEGIN:STANDARD
DTSTART:19701101T020000
RRULE:FREQ=YEARLY;BYDAY=1SU;BYMONTH=11
TZOFFSETFROM:-0700
TZOFFSETTO:-0800
TZNAME:PST
END:STANDARD
BEGIN:DAYLIGHT
DTSTART:19700308T020000
RRULE:FREQ=YEARLY;BYDAY=2SU;BYMONTH=3
TZOFFSETFROM:-0800
TZOFFSETTO:-0700
TZNAME:PDT
END:DAYLIGHT
END:VTIMEZONE
BEGIN:VEVENT
UID:west-linn-willamette-market@pdxfarmersmarket.com
DTSTAMP:20260421T161937Z
DTSTART;TZID=America/Los_Angeles:20260506T160000
DTEND;TZID=America/Los_Angeles:20260506T200000
RRULE:FREQ=WEEKLY;BYDAY=WE;UNTIL=20260930T235959
SUMMARY:Wednesdays in Willamette
LOCATION:Willamette Falls Dr between 12th & 15th St\, West Linn\, Portland\
 , OR
DESCRIPTION:A Wednesday evening market along Willamette Falls Drive in West
  Linn's historic Willamette neighborhood\, just steps from the Willamette 
 River. Features local artisans\, ciders\, wines\, food vendors\, and live 
 music from local musicians\, making it a popular midweek gathering spot fo
 r families in the southern metro area.\n\nhttps://www.historicwillamette.c
 om/market/
URL:https://pdxfarmersmarket.com/markets/west-linn-willamette-market
END:VEVENT
END:VCALENDAR