BEGIN:VCALENDAR
VERSION:2.0
PRODID:-//PDX Farmers Market//pdxfarmersmarket.com//EN
CALSCALE:GREGORIAN
BEGIN:VTIMEZONE
TZID:America/Los_Angeles
BEGIN:STANDARD
DTSTART:19701101T020000
RRULE:FREQ=YEARLY;BYDAY=1SU;BYMONTH=11
TZOFFSETFROM:-0700
TZOFFSETTO:-0800
TZNAME:PST
END:STANDARD
BEGIN:DAYLIGHT
DTSTART:19700308T020000
RRULE:FREQ=YEARLY;BYDAY=2SU;BYMONTH=3
TZOFFSETFROM:-0800
TZOFFSETTO:-0700
TZNAME:PDT
END:DAYLIGHT
END:VTIMEZONE
BEGIN:VEVENT
UID:tigard-farmers-market@pdxfarmersmarket.com
DTSTAMP:20260421T162015Z
DTSTART;TZID=America/Los_Angeles:20260503T090000
DTEND;TZID=America/Los_Angeles:20260503T133000
RRULE:FREQ=WEEKLY;BYDAY=SU;UNTIL=20261031T235959
SUMMARY:Tigard Farmers Market
LOCATION:Rotary Plaza\, 12345 SW Main St\, Tigard\, Portland\, OR
DESCRIPTION:Downtown Tigard's popular Sunday market featuring food trucks\,
  fresh produce\, and a splash pad. Accepts $1 EBT tokens and WIC/Senior Fa
 rm Direct Nutrition coupons. Entering its 28th season.\n\nhttps://www.tiga
 rdfarmersmarket.org
URL:https://pdxfarmersmarket.com/markets/tigard-farmers-market
END:VEVENT
END:VCALENDAR