BEGIN:VCALENDAR
VERSION:2.0
PRODID:-//PDX Farmers Market//pdxfarmersmarket.com//EN
CALSCALE:GREGORIAN
BEGIN:VTIMEZONE
TZID:America/Los_Angeles
BEGIN:STANDARD
DTSTART:19701101T020000
RRULE:FREQ=YEARLY;BYDAY=1SU;BYMONTH=11
TZOFFSETFROM:-0700
TZOFFSETTO:-0800
TZNAME:PST
END:STANDARD
BEGIN:DAYLIGHT
DTSTART:19700308T020000
RRULE:FREQ=YEARLY;BYDAY=2SU;BYMONTH=3
TZOFFSETFROM:-0800
TZOFFSETTO:-0700
TZNAME:PDT
END:DAYLIGHT
END:VTIMEZONE
BEGIN:VEVENT
UID:south-waterfront-farmers-market@pdxfarmersmarket.com
DTSTAMP:20260421T164252Z
DTSTART;TZID=America/Los_Angeles:20260604T140000
DTEND;TZID=America/Los_Angeles:20260604T190000
RRULE:FREQ=WEEKLY;BYDAY=TH;UNTIL=20261031T235959
SUMMARY:South Waterfront Farmers Market
LOCATION:Elizabeth Caruthers Park\, 3508 S Moody Ave\, Portland\, OR
DESCRIPTION:A scenic waterfront market in Elizabeth Caruthers Park\, perfec
 t for an afternoon visit. Features farm-fresh produce and ready-to-eat loc
 al foods in a walkable waterfront setting.\n\nhttps://www.southwaterfront.
 com/farmers-market-about
URL:https://pdxfarmersmarket.com/markets/south-waterfront-farmers-market
END:VEVENT
END:VCALENDAR