BEGIN:VCALENDAR
VERSION:2.0
PRODID:-//PDX Farmers Market//pdxfarmersmarket.com//EN
CALSCALE:GREGORIAN
BEGIN:VTIMEZONE
TZID:America/Los_Angeles
BEGIN:STANDARD
DTSTART:19701101T020000
RRULE:FREQ=YEARLY;BYDAY=1SU;BYMONTH=11
TZOFFSETFROM:-0700
TZOFFSETTO:-0800
TZNAME:PST
END:STANDARD
BEGIN:DAYLIGHT
DTSTART:19700308T020000
RRULE:FREQ=YEARLY;BYDAY=2SU;BYMONTH=3
TZOFFSETFROM:-0800
TZOFFSETTO:-0700
TZNAME:PDT
END:DAYLIGHT
END:VTIMEZONE
BEGIN:VEVENT
UID:sherwood-saturday-market@pdxfarmersmarket.com
DTSTAMP:20260421T163406Z
DTSTART;TZID=America/Los_Angeles:20260502T090000
DTEND;TZID=America/Los_Angeles:20260502T130000
RRULE:FREQ=WEEKLY;BYDAY=SA;UNTIL=20260930T235959
SUMMARY:Sherwood Saturday Market
LOCATION:22560 SW Pine St\, Sherwood\, Portland\, OR
DESCRIPTION:A charming small-town market in Sherwood's Cannery Square on SW
  Pine Street featuring fresh produce\, plants\, flowers\, prepared food\, 
 and handcrafted items from local vendors. Set in the walkable heart of dow
 ntown Sherwood\, the market draws families and neighbors for a relaxed Sat
 urday morning of shopping and community connection.\n\nhttps://www.oldtown
 sherwood.org/sherwood-market
URL:https://pdxfarmersmarket.com/markets/sherwood-saturday-market
END:VEVENT
END:VCALENDAR