BEGIN:VCALENDAR
VERSION:2.0
PRODID:-//PDX Farmers Market//pdxfarmersmarket.com//EN
CALSCALE:GREGORIAN
BEGIN:VTIMEZONE
TZID:America/Los_Angeles
BEGIN:STANDARD
DTSTART:19701101T020000
RRULE:FREQ=YEARLY;BYDAY=1SU;BYMONTH=11
TZOFFSETFROM:-0700
TZOFFSETTO:-0800
TZNAME:PST
END:STANDARD
BEGIN:DAYLIGHT
DTSTART:19700308T020000
RRULE:FREQ=YEARLY;BYDAY=2SU;BYMONTH=3
TZOFFSETFROM:-0800
TZOFFSETTO:-0700
TZNAME:PDT
END:DAYLIGHT
END:VTIMEZONE
BEGIN:VEVENT
UID:shemanski-park-farmers-market@pdxfarmersmarket.com
DTSTAMP:20260421T161943Z
DTSTART;TZID=America/Los_Angeles:20260506T100000
DTEND;TZID=America/Los_Angeles:20260506T140000
RRULE:FREQ=WEEKLY;BYDAY=WE;UNTIL=20261031T235959
SUMMARY:Portland Farmers Market at Shemanski Park
LOCATION:Shemanski Park\, SW Park & SW Main\, Portland\, OR
DESCRIPTION:A midweek downtown market tucked behind the Arlene Schnitzer Co
 ncert Hall\, perfect for lunch-hour visits. Features 30+ vendor stalls wit
 h farm-fresh produce\, locally made foods\, and flowers.\n\nhttps://www.po
 rtlandfarmersmarket.org/our-markets/shemanski/
URL:https://pdxfarmersmarket.com/markets/shemanski-park-farmers-market
END:VEVENT
END:VCALENDAR