BEGIN:VCALENDAR
VERSION:2.0
PRODID:-//PDX Farmers Market//pdxfarmersmarket.com//EN
CALSCALE:GREGORIAN
BEGIN:VTIMEZONE
TZID:America/Los_Angeles
BEGIN:STANDARD
DTSTART:19701101T020000
RRULE:FREQ=YEARLY;BYDAY=1SU;BYMONTH=11
TZOFFSETFROM:-0700
TZOFFSETTO:-0800
TZNAME:PST
END:STANDARD
BEGIN:DAYLIGHT
DTSTART:19700308T020000
RRULE:FREQ=YEARLY;BYDAY=2SU;BYMONTH=3
TZOFFSETFROM:-0800
TZOFFSETTO:-0700
TZNAME:PDT
END:DAYLIGHT
END:VTIMEZONE
BEGIN:VEVENT
UID:sellwood-moreland-farmers-market@pdxfarmersmarket.com
DTSTAMP:20260421T164527Z
DTSTART;TZID=America/Los_Angeles:20260502T100000
DTEND;TZID=America/Los_Angeles:20260502T140000
RRULE:FREQ=WEEKLY;BYDAY=SA;UNTIL=20261031T235959
SUMMARY:Sellwood-Moreland Farmers Market
LOCATION:1650 SE Claybourne St\, Portland\, OR
DESCRIPTION:A neighborhood market in the heart of Sellwood-Moreland featuri
 ng local fruits\, vegetables\, meats\, cheeses\, baked goods\, and cut flo
 wers. Offers SNAP match of $10 and a children's nutrition education progra
 m.\n\nhttp://www.morelandfarmersmarket.org
URL:https://pdxfarmersmarket.com/markets/sellwood-moreland-farmers-market
END:VEVENT
END:VCALENDAR