BEGIN:VCALENDAR
VERSION:2.0
PRODID:-//PDX Farmers Market//pdxfarmersmarket.com//EN
CALSCALE:GREGORIAN
BEGIN:VTIMEZONE
TZID:America/Los_Angeles
BEGIN:STANDARD
DTSTART:19701101T020000
RRULE:FREQ=YEARLY;BYDAY=1SU;BYMONTH=11
TZOFFSETFROM:-0700
TZOFFSETTO:-0800
TZNAME:PST
END:STANDARD
BEGIN:DAYLIGHT
DTSTART:19700308T020000
RRULE:FREQ=YEARLY;BYDAY=2SU;BYMONTH=3
TZOFFSETFROM:-0800
TZOFFSETTO:-0700
TZNAME:PDT
END:DAYLIGHT
END:VTIMEZONE
BEGIN:VEVENT
UID:rocky-butte-farmers-market@pdxfarmersmarket.com
DTSTAMP:20260421T163311Z
DTSTART;TZID=America/Los_Angeles:20260502T090000
DTEND;TZID=America/Los_Angeles:20260502T130000
RRULE:FREQ=WEEKLY;BYDAY=SA;UNTIL=20261031T235959
SUMMARY:Rocky Butte Farmers Market
LOCATION:NE Siskiyou St between NE 80th & 81st Ave\, Portland\, OR
DESCRIPTION:A community-focused Saturday market in NE Portland's Roseway ne
 ighborhood near Glenhaven Park\, with a mission to increase access to affo
 rdable\, locally grown food. Features SNAP match up to $20 per day via Dou
 ble Up Food Bucks and brings together small-scale farmers and food produce
 rs from across the region.\n\nhttps://www.rockybuttemarket.com
URL:https://pdxfarmersmarket.com/markets/rocky-butte-farmers-market
END:VEVENT
END:VCALENDAR