BEGIN:VCALENDAR
VERSION:2.0
PRODID:-//PDX Farmers Market//pdxfarmersmarket.com//EN
CALSCALE:GREGORIAN
BEGIN:VTIMEZONE
TZID:America/Los_Angeles
BEGIN:STANDARD
DTSTART:19701101T020000
RRULE:FREQ=YEARLY;BYDAY=1SU;BYMONTH=11
TZOFFSETFROM:-0700
TZOFFSETTO:-0800
TZNAME:PST
END:STANDARD
BEGIN:DAYLIGHT
DTSTART:19700308T020000
RRULE:FREQ=YEARLY;BYDAY=2SU;BYMONTH=3
TZOFFSETFROM:-0800
TZOFFSETTO:-0700
TZNAME:PDT
END:DAYLIGHT
END:VTIMEZONE
BEGIN:VEVENT
UID:psu-farmers-market@pdxfarmersmarket.com
DTSTAMP:20260421T161819Z
DTSTART;TZID=America/Los_Angeles:20260425T083000
DTEND;TZID=America/Los_Angeles:20260425T140000
RRULE:FREQ=WEEKLY;BYDAY=SA
SUMMARY:Portland Farmers Market at PSU
LOCATION:South Park Blocks at SW Park & Montgomery\, Portland\, OR
DESCRIPTION:Portland's flagship year-round farmers market on the South Park
  Blocks. Features 100+ local farmers and food producers. Rated one of the 
 five best farmers markets in the US by Eating Well Magazine.\n\nhttps://ww
 w.portlandfarmersmarket.org
URL:https://pdxfarmersmarket.com/markets/psu-farmers-market
END:VEVENT
END:VCALENDAR