BEGIN:VCALENDAR
VERSION:2.0
PRODID:-//PDX Farmers Market//pdxfarmersmarket.com//EN
CALSCALE:GREGORIAN
BEGIN:VTIMEZONE
TZID:America/Los_Angeles
BEGIN:STANDARD
DTSTART:19701101T020000
RRULE:FREQ=YEARLY;BYDAY=1SU;BYMONTH=11
TZOFFSETFROM:-0700
TZOFFSETTO:-0800
TZNAME:PST
END:STANDARD
BEGIN:DAYLIGHT
DTSTART:19700308T020000
RRULE:FREQ=YEARLY;BYDAY=2SU;BYMONTH=3
TZOFFSETFROM:-0800
TZOFFSETTO:-0700
TZNAME:PDT
END:DAYLIGHT
END:VTIMEZONE
BEGIN:VEVENT
UID:peoples-coop-farmers-market@pdxfarmersmarket.com
DTSTAMP:20260421T163406Z
DTSTART;TZID=America/Los_Angeles:20260422T140000
DTEND;TZID=America/Los_Angeles:20260422T180000
RRULE:FREQ=WEEKLY;BYDAY=WE
SUMMARY:People's Co-op Farmers Market
LOCATION:3029 SE 21st Ave\, Portland\, OR
DESCRIPTION:Portland's longest-running year-round market\, held outside the
  iconic People's Food Co-op. Emphasizes high-quality locally grown produce
  and organic\, ethically sourced artisan foods.\n\nhttps://www.peoples.coo
 p/farmers-market
URL:https://pdxfarmersmarket.com/markets/peoples-coop-farmers-market
END:VEVENT
END:VCALENDAR