BEGIN:VCALENDAR
VERSION:2.0
PRODID:-//PDX Farmers Market//pdxfarmersmarket.com//EN
CALSCALE:GREGORIAN
BEGIN:VTIMEZONE
TZID:America/Los_Angeles
BEGIN:STANDARD
DTSTART:19701101T020000
RRULE:FREQ=YEARLY;BYDAY=1SU;BYMONTH=11
TZOFFSETFROM:-0700
TZOFFSETTO:-0800
TZNAME:PST
END:STANDARD
BEGIN:DAYLIGHT
DTSTART:19700308T020000
RRULE:FREQ=YEARLY;BYDAY=2SU;BYMONTH=3
TZOFFSETFROM:-0800
TZOFFSETTO:-0700
TZNAME:PDT
END:DAYLIGHT
END:VTIMEZONE
BEGIN:VEVENT
UID:oregon-city-farmers-market@pdxfarmersmarket.com
DTSTAMP:20260421T163311Z
DTSTART;TZID=America/Los_Angeles:20260502T090000
DTEND;TZID=America/Los_Angeles:20260502T140000
RRULE:FREQ=WEEKLY;BYDAY=SA
EXDATE;TZID=America/Los_Angeles:20270102T090000
EXDATE;TZID=America/Los_Angeles:20270109T090000
EXDATE;TZID=America/Los_Angeles:20270116T090000
EXDATE;TZID=America/Los_Angeles:20270123T090000
EXDATE;TZID=America/Los_Angeles:20270130T090000
EXDATE;TZID=America/Los_Angeles:20270206T090000
EXDATE;TZID=America/Los_Angeles:20270213T090000
EXDATE;TZID=America/Los_Angeles:20270220T090000
EXDATE;TZID=America/Los_Angeles:20270227T090000
EXDATE;TZID=America/Los_Angeles:20270306T090000
EXDATE;TZID=America/Los_Angeles:20270313T090000
EXDATE;TZID=America/Los_Angeles:20270320T090000
EXDATE;TZID=America/Los_Angeles:20270327T090000
EXDATE;TZID=America/Los_Angeles:20270403T090000
EXDATE;TZID=America/Los_Angeles:20270410T090000
EXDATE;TZID=America/Los_Angeles:20270417T090000
EXDATE;TZID=America/Los_Angeles:20270424T090000
SUMMARY:Oregon City Farmers Market
LOCATION:19400 S Beavercreek Rd\, Oregon City\, Portland\, OR
DESCRIPTION:A year-round market at Clackamas Community College featuring es
 presso\, tamales\, crepes\, wine\, ciders\, growers\, ranchers\, bakers\, 
 and artisans. Summer Saturdays May–Oct\; Harvest and Holiday Markets Nov–D
 ec\; winter every other Saturday Jan–Apr.\n\nRestricted schedule (Jan\, Fe
 b\, Mar\, Apr): Jan 10\, Jan 24\, Feb 7\, Feb 21\, Mar 7\, Mar 21\, Apr 4\
 , Apr 18\n\nhttps://orcityfarmersmarket.com
URL:https://pdxfarmersmarket.com/markets/oregon-city-farmers-market
END:VEVENT
END:VCALENDAR