BEGIN:VCALENDAR
VERSION:2.0
PRODID:-//PDX Farmers Market//pdxfarmersmarket.com//EN
CALSCALE:GREGORIAN
BEGIN:VTIMEZONE
TZID:America/Los_Angeles
BEGIN:STANDARD
DTSTART:19701101T020000
RRULE:FREQ=YEARLY;BYDAY=1SU;BYMONTH=11
TZOFFSETFROM:-0700
TZOFFSETTO:-0800
TZNAME:PST
END:STANDARD
BEGIN:DAYLIGHT
DTSTART:19700308T020000
RRULE:FREQ=YEARLY;BYDAY=2SU;BYMONTH=3
TZOFFSETFROM:-0800
TZOFFSETTO:-0700
TZNAME:PDT
END:DAYLIGHT
END:VTIMEZONE
BEGIN:VEVENT
UID:montavilla-farmers-market@pdxfarmersmarket.com
DTSTAMP:20260421T161942Z
DTSTART;TZID=America/Los_Angeles:20260426T100000
DTEND;TZID=America/Los_Angeles:20260426T140000
RRULE:FREQ=WEEKLY;BYDAY=SU
EXDATE;TZID=America/Los_Angeles:20270103T100000
EXDATE;TZID=America/Los_Angeles:20270110T100000
EXDATE;TZID=America/Los_Angeles:20270117T100000
EXDATE;TZID=America/Los_Angeles:20270124T100000
EXDATE;TZID=America/Los_Angeles:20270131T100000
EXDATE;TZID=America/Los_Angeles:20270207T100000
EXDATE;TZID=America/Los_Angeles:20270214T100000
EXDATE;TZID=America/Los_Angeles:20270221T100000
EXDATE;TZID=America/Los_Angeles:20270228T100000
EXDATE;TZID=America/Los_Angeles:20270307T100000
EXDATE;TZID=America/Los_Angeles:20270314T100000
EXDATE;TZID=America/Los_Angeles:20270321T100000
EXDATE;TZID=America/Los_Angeles:20270328T100000
EXDATE;TZID=America/Los_Angeles:20270404T100000
EXDATE;TZID=America/Los_Angeles:20270411T100000
EXDATE;TZID=America/Los_Angeles:20270418T100000
EXDATE;TZID=America/Los_Angeles:20270425T100000
SUMMARY:Montavilla Farmers Market
LOCATION:SE Stark St & SE 76th Ave\, Portland\, OR
DESCRIPTION:A friendly neighborhood market in the Montavilla district offer
 ing local produce\, artisan goods\, and prepared foods. Open every Sunday 
 from May through December 21\, then every other Sunday from January throug
 h April.\n\nSchedule: Every Sunday May – Dec 21\nEvery other Sunday Jan – 
 Apr\n\nRestricted schedule (Jan\, Feb\, Mar\, Apr): Jan 4\, Jan 18\, Feb 1
 \, Feb 15\, Mar 1\, Mar 15\, Mar 29\, Apr 12\, Apr 26\n\nhttps://www.monta
 villamarket.org
URL:https://pdxfarmersmarket.com/markets/montavilla-farmers-market
END:VEVENT
END:VCALENDAR