BEGIN:VCALENDAR
VERSION:2.0
PRODID:-//PDX Farmers Market//pdxfarmersmarket.com//EN
CALSCALE:GREGORIAN
BEGIN:VTIMEZONE
TZID:America/Los_Angeles
BEGIN:STANDARD
DTSTART:19701101T020000
RRULE:FREQ=YEARLY;BYDAY=1SU;BYMONTH=11
TZOFFSETFROM:-0700
TZOFFSETTO:-0800
TZNAME:PST
END:STANDARD
BEGIN:DAYLIGHT
DTSTART:19700308T020000
RRULE:FREQ=YEARLY;BYDAY=2SU;BYMONTH=3
TZOFFSETFROM:-0800
TZOFFSETTO:-0700
TZNAME:PDT
END:DAYLIGHT
END:VTIMEZONE
BEGIN:VEVENT
UID:milwaukie-farmers-market@pdxfarmersmarket.com
DTSTAMP:20260421T164527Z
DTSTART;TZID=America/Los_Angeles:20260503T093000
DTEND;TZID=America/Los_Angeles:20260503T140000
RRULE:FREQ=WEEKLY;BYDAY=SU;UNTIL=20261031T235959
SUMMARY:Milwaukie Farmers Market
LOCATION:10723 SE Main St\, Milwaukie\, Portland\, OR
DESCRIPTION:A Sunday market in downtown Milwaukie featuring organic goods\,
  floral items\, and local produce. Accepts EBT/Oregon Trail and debit card
 s. No dogs allowed — benches nearby for those with pets.\n\nhttps://milwau
 kiefarmersmarket.com
URL:https://pdxfarmersmarket.com/markets/milwaukie-farmers-market
END:VEVENT
END:VCALENDAR