BEGIN:VCALENDAR
VERSION:2.0
PRODID:-//PDX Farmers Market//pdxfarmersmarket.com//EN
CALSCALE:GREGORIAN
BEGIN:VTIMEZONE
TZID:America/Los_Angeles
BEGIN:STANDARD
DTSTART:19701101T020000
RRULE:FREQ=YEARLY;BYDAY=1SU;BYMONTH=11
TZOFFSETFROM:-0700
TZOFFSETTO:-0800
TZNAME:PST
END:STANDARD
BEGIN:DAYLIGHT
DTSTART:19700308T020000
RRULE:FREQ=YEARLY;BYDAY=2SU;BYMONTH=3
TZOFFSETFROM:-0800
TZOFFSETTO:-0700
TZNAME:PDT
END:DAYLIGHT
END:VTIMEZONE
BEGIN:VEVENT
UID:mhcc-farmers-market@pdxfarmersmarket.com
DTSTAMP:20260421T161818Z
DTSTART;TZID=America/Los_Angeles:20260425T090000
DTEND;TZID=America/Los_Angeles:20260425T140000
RRULE:FREQ=WEEKLY;BYDAY=SA,SU;UNTIL=20261031T235959
SUMMARY:Farmer's Market at MHCC
LOCATION:26000 SE Stark St\, Gresham (Parking Lot W)\, Portland\, OR
DESCRIPTION:A weekend market at Mt. Hood Community College featuring fresh 
 produce\, locally grown flowers\, food\, and local artisans. A portion of 
 proceeds supports affordable housing and food insecurity charities.\n\nhtt
 ps://mhccmarket.com
URL:https://pdxfarmersmarket.com/markets/mhcc-farmers-market
END:VEVENT
END:VCALENDAR