BEGIN:VCALENDAR
VERSION:2.0
PRODID:-//PDX Farmers Market//pdxfarmersmarket.com//EN
CALSCALE:GREGORIAN
BEGIN:VTIMEZONE
TZID:America/Los_Angeles
BEGIN:STANDARD
DTSTART:19701101T020000
RRULE:FREQ=YEARLY;BYDAY=1SU;BYMONTH=11
TZOFFSETFROM:-0700
TZOFFSETTO:-0800
TZNAME:PST
END:STANDARD
BEGIN:DAYLIGHT
DTSTART:19700308T020000
RRULE:FREQ=YEARLY;BYDAY=2SU;BYMONTH=3
TZOFFSETFROM:-0800
TZOFFSETTO:-0700
TZNAME:PDT
END:DAYLIGHT
END:VTIMEZONE
BEGIN:VEVENT
UID:lents-farmers-market@pdxfarmersmarket.com
DTSTAMP:20260421T162013Z
DTSTART;TZID=America/Los_Angeles:20260607T090000
DTEND;TZID=America/Los_Angeles:20260607T140000
RRULE:FREQ=WEEKLY;BYDAY=SU;UNTIL=20261130T235959
SUMMARY:Lents International Farmers Market
LOCATION:SE 92nd Ave & Reedway St\, Portland\, OR
DESCRIPTION:A culturally diverse market in the Lents neighborhood celebrati
 ng the area's international community. Features produce\, international pr
 epared foods\, and goods reflecting the neighborhood's multicultural chara
 cter.\n\nhttps://www.portlandfarmersmarket.org/our-markets/lents-internati
 onal/
URL:https://pdxfarmersmarket.com/markets/lents-farmers-market
END:VEVENT
END:VCALENDAR