BEGIN:VCALENDAR
VERSION:2.0
PRODID:-//PDX Farmers Market//pdxfarmersmarket.com//EN
CALSCALE:GREGORIAN
BEGIN:VTIMEZONE
TZID:America/Los_Angeles
BEGIN:STANDARD
DTSTART:19701101T020000
RRULE:FREQ=YEARLY;BYDAY=1SU;BYMONTH=11
TZOFFSETFROM:-0700
TZOFFSETTO:-0800
TZNAME:PST
END:STANDARD
BEGIN:DAYLIGHT
DTSTART:19700308T020000
RRULE:FREQ=YEARLY;BYDAY=2SU;BYMONTH=3
TZOFFSETFROM:-0800
TZOFFSETTO:-0700
TZNAME:PDT
END:DAYLIGHT
END:VTIMEZONE
BEGIN:VEVENT
UID:lake-oswego-farmers-market@pdxfarmersmarket.com
DTSTAMP:20260421T163520Z
DTSTART;TZID=America/Los_Angeles:20260502T083000
DTEND;TZID=America/Los_Angeles:20260502T133000
RRULE:FREQ=WEEKLY;BYDAY=SA;UNTIL=20261031T235959
SUMMARY:Lake Oswego Farmers Market
LOCATION:Millennium Plaza Park\, 200 1st St\, Lake Oswego\, Portland\, OR
DESCRIPTION:A Saturday market in Lake Oswego's Millennium Plaza Park run by
  the City Parks & Recreation department. Features local fruits\, baked goo
 ds\, flowers\, and crafts. No pets allowed except service animals.\n\nhttp
 s://www.ci.oswego.or.us/lofm
URL:https://pdxfarmersmarket.com/markets/lake-oswego-farmers-market
END:VEVENT
END:VCALENDAR