BEGIN:VCALENDAR
VERSION:2.0
PRODID:-//PDX Farmers Market//pdxfarmersmarket.com//EN
CALSCALE:GREGORIAN
BEGIN:VTIMEZONE
TZID:America/Los_Angeles
BEGIN:STANDARD
DTSTART:19701101T020000
RRULE:FREQ=YEARLY;BYDAY=1SU;BYMONTH=11
TZOFFSETFROM:-0700
TZOFFSETTO:-0800
TZNAME:PST
END:STANDARD
BEGIN:DAYLIGHT
DTSTART:19700308T020000
RRULE:FREQ=YEARLY;BYDAY=2SU;BYMONTH=3
TZOFFSETFROM:-0800
TZOFFSETTO:-0700
TZNAME:PDT
END:DAYLIGHT
END:VTIMEZONE
BEGIN:VEVENT
UID:king-farmers-market@pdxfarmersmarket.com
DTSTAMP:20260421T161812Z
DTSTART;TZID=America/Los_Angeles:20260503T100000
DTEND;TZID=America/Los_Angeles:20260503T140000
RRULE:FREQ=WEEKLY;BYDAY=SU;UNTIL=20261130T235959
SUMMARY:King Farmers Market
LOCATION:NE 7th Ave & NE Wygant St\, Portland\, OR
DESCRIPTION:A community-centered Sunday market at NE 7th and Wygant in NE P
 ortland's historic King neighborhood\, with a strong focus on diversity an
 d inclusion. Features local produce\, prepared foods\, and regular communi
 ty programming that reflects the neighborhood's rich cultural heritage and
  commitment to food access.\n\nhttps://www.portlandfarmersmarket.org/our-m
 arkets/king/
URL:https://pdxfarmersmarket.com/markets/king-farmers-market
END:VEVENT
END:VCALENDAR