BEGIN:VCALENDAR
VERSION:2.0
PRODID:-//PDX Farmers Market//pdxfarmersmarket.com//EN
CALSCALE:GREGORIAN
BEGIN:VTIMEZONE
TZID:America/Los_Angeles
BEGIN:STANDARD
DTSTART:19701101T020000
RRULE:FREQ=YEARLY;BYDAY=1SU;BYMONTH=11
TZOFFSETFROM:-0700
TZOFFSETTO:-0800
TZNAME:PST
END:STANDARD
BEGIN:DAYLIGHT
DTSTART:19700308T020000
RRULE:FREQ=YEARLY;BYDAY=2SU;BYMONTH=3
TZOFFSETFROM:-0800
TZOFFSETTO:-0700
TZNAME:PDT
END:DAYLIGHT
END:VTIMEZONE
BEGIN:VEVENT
UID:kenton-farmers-market@pdxfarmersmarket.com
DTSTAMP:20260421T161936Z
DTSTART;TZID=America/Los_Angeles:20260603T150000
DTEND;TZID=America/Los_Angeles:20260603T190000
RRULE:FREQ=WEEKLY;BYDAY=WE;UNTIL=20260930T235959
SUMMARY:Kenton Farmers Market
LOCATION:N McClellan St & N Denver Ave\, Portland\, OR
DESCRIPTION:A lively evening market in the charming Kenton neighborhood fea
 turing fresh produce\, local food vendors\, live music\, and family activi
 ties. A great after-work stop in North Portland.\n\nhttps://kentonportland
 .com/farmers-market
URL:https://pdxfarmersmarket.com/markets/kenton-farmers-market
END:VEVENT
END:VCALENDAR