BEGIN:VCALENDAR
VERSION:2.0
PRODID:-//PDX Farmers Market//pdxfarmersmarket.com//EN
CALSCALE:GREGORIAN
BEGIN:VTIMEZONE
TZID:America/Los_Angeles
BEGIN:STANDARD
DTSTART:19701101T020000
RRULE:FREQ=YEARLY;BYDAY=1SU;BYMONTH=11
TZOFFSETFROM:-0700
TZOFFSETTO:-0800
TZNAME:PST
END:STANDARD
BEGIN:DAYLIGHT
DTSTART:19700308T020000
RRULE:FREQ=YEARLY;BYDAY=2SU;BYMONTH=3
TZOFFSETFROM:-0800
TZOFFSETTO:-0700
TZNAME:PDT
END:DAYLIGHT
END:VTIMEZONE
BEGIN:VEVENT
UID:irvington-farmers-market@pdxfarmersmarket.com
DTSTAMP:20260421T163149Z
DTSTART;TZID=America/Los_Angeles:20260607T093000
DTEND;TZID=America/Los_Angeles:20260607T143000
RRULE:FREQ=WEEKLY;BYDAY=SU;UNTIL=20261031T235959
SUMMARY:Irvington Farmers Market
LOCATION:NE 16th Ave between Broadway & Weidler\, Portland\, OR
DESCRIPTION:A charming Sunday market in NE Portland's historic Irvington ne
 ighborhood\, set along NE 16th Avenue between Broadway and Weidler. Featur
 es organic baked goods\, eggs\, cheese\, coffee\, meat\, mushrooms\, prepa
 red foods\, wine\, and live music in one of the city's most walkable resid
 ential areas.\n\nhttps://www.facebook.com/irvingtonFM/
URL:https://pdxfarmersmarket.com/markets/irvington-farmers-market
END:VEVENT
END:VCALENDAR