BEGIN:VCALENDAR
VERSION:2.0
PRODID:-//PDX Farmers Market//pdxfarmersmarket.com//EN
CALSCALE:GREGORIAN
BEGIN:VTIMEZONE
TZID:America/Los_Angeles
BEGIN:STANDARD
DTSTART:19701101T020000
RRULE:FREQ=YEARLY;BYDAY=1SU;BYMONTH=11
TZOFFSETFROM:-0700
TZOFFSETTO:-0800
TZNAME:PST
END:STANDARD
BEGIN:DAYLIGHT
DTSTART:19700308T020000
RRULE:FREQ=YEARLY;BYDAY=2SU;BYMONTH=3
TZOFFSETFROM:-0800
TZOFFSETTO:-0700
TZNAME:PDT
END:DAYLIGHT
END:VTIMEZONE
BEGIN:VEVENT
UID:hoodland-farmers-market@pdxfarmersmarket.com
DTSTAMP:20260421T164408Z
DTSTART;TZID=America/Los_Angeles:20260502T100000
DTEND;TZID=America/Los_Angeles:20260502T140000
RRULE:FREQ=WEEKLY;BYDAY=SA;UNTIL=20261031T235959
SUMMARY:Hoodland Farmers Market
LOCATION:68301 US-26\, Welches\, Portland\, OR
DESCRIPTION:A Mt. Hood corridor market in Welches featuring healthy food an
 d natural products from local farms and producers. Accepts SNAP\, EBT\, FM
 NP\, WIC\, and participates in Double Up Food Bucks. Indoor space availabl
 e.\n\nhttps://www.hoodlandfarmersmarket.org
URL:https://pdxfarmersmarket.com/markets/hoodland-farmers-market
END:VEVENT
END:VCALENDAR