BEGIN:VCALENDAR
VERSION:2.0
PRODID:-//PDX Farmers Market//pdxfarmersmarket.com//EN
CALSCALE:GREGORIAN
BEGIN:VTIMEZONE
TZID:America/Los_Angeles
BEGIN:STANDARD
DTSTART:19701101T020000
RRULE:FREQ=YEARLY;BYDAY=1SU;BYMONTH=11
TZOFFSETFROM:-0700
TZOFFSETTO:-0800
TZNAME:PST
END:STANDARD
BEGIN:DAYLIGHT
DTSTART:19700308T020000
RRULE:FREQ=YEARLY;BYDAY=2SU;BYMONTH=3
TZOFFSETFROM:-0800
TZOFFSETTO:-0700
TZNAME:PDT
END:DAYLIGHT
END:VTIMEZONE
BEGIN:VEVENT
UID:hollywood-farmers-market@pdxfarmersmarket.com
DTSTAMP:20260421T163254Z
DTSTART;TZID=America/Los_Angeles:20260425T080000
DTEND;TZID=America/Los_Angeles:20260425T130000
RRULE:FREQ=WEEKLY;BYDAY=SA
EXDATE;TZID=America/Los_Angeles:20270102T080000
EXDATE;TZID=America/Los_Angeles:20270109T080000
EXDATE;TZID=America/Los_Angeles:20270116T080000
EXDATE;TZID=America/Los_Angeles:20270123T080000
EXDATE;TZID=America/Los_Angeles:20270130T080000
EXDATE;TZID=America/Los_Angeles:20270206T080000
EXDATE;TZID=America/Los_Angeles:20270213T080000
EXDATE;TZID=America/Los_Angeles:20270220T080000
EXDATE;TZID=America/Los_Angeles:20270227T080000
EXDATE;TZID=America/Los_Angeles:20270306T080000
EXDATE;TZID=America/Los_Angeles:20270313T080000
EXDATE;TZID=America/Los_Angeles:20270320T080000
EXDATE;TZID=America/Los_Angeles:20270327T080000
SUMMARY:Hollywood Farmers Market
LOCATION:NE Hancock St between 44th & 45th Ave\, Portland\, OR
DESCRIPTION:A vibrant neighborhood market in the heart of the Hollywood Dis
 trict running since 1990. One of Portland's most established markets with 
 a loyal local following and excellent selection of produce.\n\nRestricted 
 schedule (Jan\, Feb\, Mar): Jan 3\, Jan 17\, Feb 7\, Feb 21\, Mar 7\, Mar 
 21\nWinter hours: 9:00 AM – 1:00 PM\n\nhttps://www.hollywoodfarmersmarket.
 org
URL:https://pdxfarmersmarket.com/markets/hollywood-farmers-market
END:VEVENT
END:VCALENDAR