BEGIN:VCALENDAR
VERSION:2.0
PRODID:-//PDX Farmers Market//pdxfarmersmarket.com//EN
CALSCALE:GREGORIAN
BEGIN:VTIMEZONE
TZID:America/Los_Angeles
BEGIN:STANDARD
DTSTART:19701101T020000
RRULE:FREQ=YEARLY;BYDAY=1SU;BYMONTH=11
TZOFFSETFROM:-0700
TZOFFSETTO:-0800
TZNAME:PST
END:STANDARD
BEGIN:DAYLIGHT
DTSTART:19700308T020000
RRULE:FREQ=YEARLY;BYDAY=2SU;BYMONTH=3
TZOFFSETFROM:-0800
TZOFFSETTO:-0700
TZNAME:PDT
END:DAYLIGHT
END:VTIMEZONE
BEGIN:VEVENT
UID:hillsdale-farmers-market@pdxfarmersmarket.com
DTSTAMP:20260421T163520Z
DTSTART;TZID=America/Los_Angeles:20260426T090000
DTEND;TZID=America/Los_Angeles:20260426T130000
RRULE:FREQ=WEEKLY;BYDAY=SU
EXDATE;TZID=America/Los_Angeles:20261206T090000
EXDATE;TZID=America/Los_Angeles:20261213T090000
EXDATE;TZID=America/Los_Angeles:20261220T090000
EXDATE;TZID=America/Los_Angeles:20261227T090000
EXDATE;TZID=America/Los_Angeles:20271205T090000
EXDATE;TZID=America/Los_Angeles:20271212T090000
EXDATE;TZID=America/Los_Angeles:20271219T090000
EXDATE;TZID=America/Los_Angeles:20271226T090000
EXDATE;TZID=America/Los_Angeles:20270103T090000
EXDATE;TZID=America/Los_Angeles:20270110T090000
EXDATE;TZID=America/Los_Angeles:20270117T090000
EXDATE;TZID=America/Los_Angeles:20270124T090000
EXDATE;TZID=America/Los_Angeles:20270131T090000
EXDATE;TZID=America/Los_Angeles:20270207T090000
EXDATE;TZID=America/Los_Angeles:20270214T090000
EXDATE;TZID=America/Los_Angeles:20270221T090000
EXDATE;TZID=America/Los_Angeles:20270228T090000
EXDATE;TZID=America/Los_Angeles:20270307T090000
EXDATE;TZID=America/Los_Angeles:20270314T090000
EXDATE;TZID=America/Los_Angeles:20270321T090000
EXDATE;TZID=America/Los_Angeles:20270328T090000
SUMMARY:Hillsdale Farmers Market
LOCATION:1405 SW Vermont St (Rieke Elementary parking lot)\, Portland\, OR
DESCRIPTION:Southwest Portland's beloved year-round market hosting 50+ loca
 l farmers and food artisans from Oregon and SW Washington. Features season
 al vegetables\, fruits\, meats\, cheeses\, honey\, baked goods\, and flowe
 rs. Weekly markets resume in April\; every other Sunday during winter mont
 hs.\n\nSchedule: Every Sunday Apr – Nov\nEvery other Sunday Dec – Mar\n\nR
 estricted schedule (Dec\, Jan\, Feb\, Mar): Dec 7\, Dec 21\, Jan 11\, Jan 
 25\, Feb 8\, Feb 22\, Mar 8\, Mar 22\, Mar 29\n\nhttps://www.hillsdalefarm
 ersmarket.com
URL:https://pdxfarmersmarket.com/markets/hillsdale-farmers-market
END:VEVENT
END:VCALENDAR