BEGIN:VCALENDAR
VERSION:2.0
PRODID:-//PDX Farmers Market//pdxfarmersmarket.com//EN
CALSCALE:GREGORIAN
BEGIN:VTIMEZONE
TZID:America/Los_Angeles
BEGIN:STANDARD
DTSTART:19701101T020000
RRULE:FREQ=YEARLY;BYDAY=1SU;BYMONTH=11
TZOFFSETFROM:-0700
TZOFFSETTO:-0800
TZNAME:PST
END:STANDARD
BEGIN:DAYLIGHT
DTSTART:19700308T020000
RRULE:FREQ=YEARLY;BYDAY=2SU;BYMONTH=3
TZOFFSETFROM:-0800
TZOFFSETTO:-0700
TZNAME:PDT
END:DAYLIGHT
END:VTIMEZONE
BEGIN:VEVENT
UID:hillsboro-orenco-farmers-market@pdxfarmersmarket.com
DTSTAMP:20260421T164420Z
DTSTART;TZID=America/Los_Angeles:20260426T100000
DTEND;TZID=America/Los_Angeles:20260426T140000
RRULE:FREQ=WEEKLY;BYDAY=SU;UNTIL=20261031T235959
SUMMARY:Hillsboro Orenco Station Sunday Market
LOCATION:6125 NE Cornell Rd\, Hillsboro\, Portland\, OR
DESCRIPTION:A destination Sunday market at Orenco Station operating since 2
 003. Features food cooked on-site\, fresh produce\, flowers\, plants\, fin
 e arts and crafts\, and local musicians. Accessible via MAX light rail.\n\
 nhttps://hillsboromarkets.org/orenco
URL:https://pdxfarmersmarket.com/markets/hillsboro-orenco-farmers-market
END:VEVENT
END:VCALENDAR