BEGIN:VCALENDAR
VERSION:2.0
PRODID:-//PDX Farmers Market//pdxfarmersmarket.com//EN
CALSCALE:GREGORIAN
BEGIN:VTIMEZONE
TZID:America/Los_Angeles
BEGIN:STANDARD
DTSTART:19701101T020000
RRULE:FREQ=YEARLY;BYDAY=1SU;BYMONTH=11
TZOFFSETFROM:-0700
TZOFFSETTO:-0800
TZNAME:PST
END:STANDARD
BEGIN:DAYLIGHT
DTSTART:19700308T020000
RRULE:FREQ=YEARLY;BYDAY=2SU;BYMONTH=3
TZOFFSETFROM:-0800
TZOFFSETTO:-0700
TZNAME:PDT
END:DAYLIGHT
END:VTIMEZONE
BEGIN:VEVENT
UID:hawthorne-farmers-market@pdxfarmersmarket.com
DTSTAMP:20260421T162013Z
DTSTART;TZID=America/Los_Angeles:20260602T150000
DTEND;TZID=America/Los_Angeles:20260602T190000
RRULE:FREQ=WEEKLY;BYDAY=TU;UNTIL=20260930T235959
SUMMARY:Hawthorne Farmers Market
LOCATION:1844 SE Cesar Estrada Chavez Blvd\, Portland\, OR 97214\, Portland
 \, OR
DESCRIPTION:A popular Tuesday afternoon market on SE Cesar Estrada Chavez B
 oulevard in the Hawthorne/Sunnyside area\, one of Portland's most beloved 
 walkable neighborhoods. Features a large food court with hot food vendors\
 , live music\, and fresh produce\, making it an ideal after-work stop. Acc
 epts SNAP/EBT\, debit\, and cash.\n\nhttps://www.sunnysidefarmersmarkets.c
 om/hawthorne-market
URL:https://pdxfarmersmarket.com/markets/hawthorne-farmers-market
END:VEVENT
END:VCALENDAR