BEGIN:VCALENDAR
VERSION:2.0
PRODID:-//PDX Farmers Market//pdxfarmersmarket.com//EN
CALSCALE:GREGORIAN
BEGIN:VTIMEZONE
TZID:America/Los_Angeles
BEGIN:STANDARD
DTSTART:19701101T020000
RRULE:FREQ=YEARLY;BYDAY=1SU;BYMONTH=11
TZOFFSETFROM:-0700
TZOFFSETTO:-0800
TZNAME:PST
END:STANDARD
BEGIN:DAYLIGHT
DTSTART:19700308T020000
RRULE:FREQ=YEARLY;BYDAY=2SU;BYMONTH=3
TZOFFSETFROM:-0800
TZOFFSETTO:-0700
TZNAME:PDT
END:DAYLIGHT
END:VTIMEZONE
BEGIN:VEVENT
UID:happy-valley-farmers-market@pdxfarmersmarket.com
DTSTAMP:20260421T163254Z
DTSTART;TZID=America/Los_Angeles:20260502T090000
DTEND;TZID=America/Los_Angeles:20260502T140000
RRULE:FREQ=WEEKLY;BYDAY=SA;UNTIL=20261031T235959
SUMMARY:Happy Valley Farmers Market
LOCATION:13231 SE Sunnyside Rd\, Clackamas\, Portland\, OR
DESCRIPTION:A large Saturday market with over 100 weekly vendors featuring 
 a big food court\, live music\, and fresh local produce. Accepts Oregon Tr
 ail SNAP cards\, WIC coupons\, debit\, and cash. Hosts a Halloween Trick-O
 r-Treat Market.\n\nhttps://www.sunnysidefarmersmarkets.com/happy-valley-ma
 rket
URL:https://pdxfarmersmarket.com/markets/happy-valley-farmers-market
END:VEVENT
END:VCALENDAR