BEGIN:VCALENDAR
VERSION:2.0
PRODID:-//PDX Farmers Market//pdxfarmersmarket.com//EN
CALSCALE:GREGORIAN
BEGIN:VTIMEZONE
TZID:America/Los_Angeles
BEGIN:STANDARD
DTSTART:19701101T020000
RRULE:FREQ=YEARLY;BYDAY=1SU;BYMONTH=11
TZOFFSETFROM:-0700
TZOFFSETTO:-0800
TZNAME:PST
END:STANDARD
BEGIN:DAYLIGHT
DTSTART:19700308T020000
RRULE:FREQ=YEARLY;BYDAY=2SU;BYMONTH=3
TZOFFSETFROM:-0800
TZOFFSETTO:-0700
TZNAME:PDT
END:DAYLIGHT
END:VTIMEZONE
BEGIN:VEVENT
UID:gresham-farmers-market@pdxfarmersmarket.com
DTSTAMP:20260421T161514Z
DTSTART;TZID=America/Los_Angeles:20260502T083000
DTEND;TZID=America/Los_Angeles:20260502T140000
RRULE:FREQ=WEEKLY;BYDAY=SA;UNTIL=20261031T235959
SUMMARY:Gresham Farmers Market
LOCATION:401 NE 2nd St\, Gresham\, Portland\, OR
DESCRIPTION:Gresham's original farmers market celebrating 40 years at the C
 enter for the Arts Plaza. Features produce\, flowers\, nursery stock\, bak
 ed goods\, wine\, artisan crafts\, and live music.\n\nhttps://www.greshamf
 armersmarket.com
URL:https://pdxfarmersmarket.com/markets/gresham-farmers-market
END:VEVENT
END:VCALENDAR