BEGIN:VCALENDAR
VERSION:2.0
PRODID:-//PDX Farmers Market//pdxfarmersmarket.com//EN
CALSCALE:GREGORIAN
BEGIN:VTIMEZONE
TZID:America/Los_Angeles
BEGIN:STANDARD
DTSTART:19701101T020000
RRULE:FREQ=YEARLY;BYDAY=1SU;BYMONTH=11
TZOFFSETFROM:-0700
TZOFFSETTO:-0800
TZNAME:PST
END:STANDARD
BEGIN:DAYLIGHT
DTSTART:19700308T020000
RRULE:FREQ=YEARLY;BYDAY=2SU;BYMONTH=3
TZOFFSETFROM:-0800
TZOFFSETTO:-0700
TZNAME:PDT
END:DAYLIGHT
END:VTIMEZONE
BEGIN:VEVENT
UID:forest-grove-farmers-market@pdxfarmersmarket.com
DTSTAMP:20260421T163128Z
DTSTART;TZID=America/Los_Angeles:20260506T160000
DTEND;TZID=America/Los_Angeles:20260506T200000
RRULE:FREQ=WEEKLY;BYDAY=WE;UNTIL=20261031T235959
SUMMARY:Forest Grove Farmers Market
LOCATION:2030 Main St\, Forest Grove\, Portland\, OR
DESCRIPTION:One of the most diverse markets in the region\, operated by Ade
 lante Mujeres with 2\,000+ weekly visitors. Accepts SNAP\, Double Up Food 
 Bucks\, WIC\, Senior FDNP\, and Produce Prescription cards. Indoor winter 
 markets in November and December.\n\nhttps://www.adelantemujeres.org
URL:https://pdxfarmersmarket.com/markets/forest-grove-farmers-market
END:VEVENT
END:VCALENDAR