BEGIN:VCALENDAR
VERSION:2.0
PRODID:-//PDX Farmers Market//pdxfarmersmarket.com//EN
CALSCALE:GREGORIAN
BEGIN:VTIMEZONE
TZID:America/Los_Angeles
BEGIN:STANDARD
DTSTART:19701101T020000
RRULE:FREQ=YEARLY;BYDAY=1SU;BYMONTH=11
TZOFFSETFROM:-0700
TZOFFSETTO:-0800
TZNAME:PST
END:STANDARD
BEGIN:DAYLIGHT
DTSTART:19700308T020000
RRULE:FREQ=YEARLY;BYDAY=2SU;BYMONTH=3
TZOFFSETFROM:-0800
TZOFFSETTO:-0700
TZNAME:PDT
END:DAYLIGHT
END:VTIMEZONE
BEGIN:VEVENT
UID:estacada-farmers-market@pdxfarmersmarket.com
DTSTAMP:20260421T161926Z
DTSTART;TZID=America/Los_Angeles:20260502T100000
DTEND;TZID=America/Los_Angeles:20260502T140000
RRULE:FREQ=WEEKLY;BYDAY=SA;UNTIL=20260930T235959
SUMMARY:Estacada Farmers Market
LOCATION:502 SE Main St\, Estacada\, Portland\, OR
DESCRIPTION:A small-town Saturday market on SE Main Street in Estacada\, a 
 gateway community to the Mt. Hood National Forest and Clackamas River corr
 idor. Features a wide variety of goods including baked goods\, cheese\, cr
 afts\, flowers\, fish and seafood\, herbs\, vegetables\, honey\, jams\, pr
 epared food\, and handmade soap from area producers.\n\nhttps://www.estaca
 dafarmersmarket.com
URL:https://pdxfarmersmarket.com/markets/estacada-farmers-market
END:VEVENT
END:VCALENDAR