BEGIN:VCALENDAR
VERSION:2.0
PRODID:-//PDX Farmers Market//pdxfarmersmarket.com//EN
CALSCALE:GREGORIAN
BEGIN:VTIMEZONE
TZID:America/Los_Angeles
BEGIN:STANDARD
DTSTART:19701101T020000
RRULE:FREQ=YEARLY;BYDAY=1SU;BYMONTH=11
TZOFFSETFROM:-0700
TZOFFSETTO:-0800
TZNAME:PST
END:STANDARD
BEGIN:DAYLIGHT
DTSTART:19700308T020000
RRULE:FREQ=YEARLY;BYDAY=2SU;BYMONTH=3
TZOFFSETFROM:-0800
TZOFFSETTO:-0700
TZNAME:PDT
END:DAYLIGHT
END:VTIMEZONE
BEGIN:VEVENT
UID:cully-farmers-market@pdxfarmersmarket.com
DTSTAMP:20260421T161807Z
DTSTART;TZID=America/Los_Angeles:20260604T160000
DTEND;TZID=America/Los_Angeles:20260604T200000
RRULE:FREQ=WEEKLY;BYDAY=TH;UNTIL=20260831T235959
SUMMARY:Cully Farmers Market
LOCATION:5011 NE 42nd Ave\, Portland\, OR
DESCRIPTION:An Indigenous-led\, equity-focused market run by the Native Ame
 rican Youth and Family Center (NAYA). Features affordable healthy food\, c
 rafts\, youth activities\, and free vendor booths to reduce barriers.\n\nh
 ttps://cullyfarmersmarket.com
URL:https://pdxfarmersmarket.com/markets/cully-farmers-market
END:VEVENT
END:VCALENDAR