BEGIN:VCALENDAR
VERSION:2.0
PRODID:-//PDX Farmers Market//pdxfarmersmarket.com//EN
CALSCALE:GREGORIAN
BEGIN:VTIMEZONE
TZID:America/Los_Angeles
BEGIN:STANDARD
DTSTART:19701101T020000
RRULE:FREQ=YEARLY;BYDAY=1SU;BYMONTH=11
TZOFFSETFROM:-0700
TZOFFSETTO:-0800
TZNAME:PST
END:STANDARD
BEGIN:DAYLIGHT
DTSTART:19700308T020000
RRULE:FREQ=YEARLY;BYDAY=2SU;BYMONTH=3
TZOFFSETFROM:-0800
TZOFFSETTO:-0700
TZNAME:PDT
END:DAYLIGHT
END:VTIMEZONE
BEGIN:VEVENT
UID:cedar-mill-farmers-market@pdxfarmersmarket.com
DTSTAMP:20260421T161812Z
DTSTART;TZID=America/Los_Angeles:20260502T090000
DTEND;TZID=America/Los_Angeles:20260502T140000
RRULE:FREQ=WEEKLY;BYDAY=SA;UNTIL=20261031T235959
SUMMARY:Cedar Mill Farmers Market
LOCATION:Corner of NW Cornell Rd & NW Murray Rd\, Portland\, OR
DESCRIPTION:A friendly Saturday market at the corner of NW Cornell and NW M
 urray in the Cedar Mill neighborhood west of Portland. Features local prod
 uce\, artisan goods\, and prepared foods in a welcoming atmosphere where d
 ogs are welcome on leash. Accepts EBT/SNAP benefits\, making fresh local f
 ood accessible to the whole community.\n\nhttps://www.cedarmillfarmersmark
 et.org
URL:https://pdxfarmersmarket.com/markets/cedar-mill-farmers-market
END:VEVENT
END:VCALENDAR