BEGIN:VCALENDAR
VERSION:2.0
PRODID:-//PDX Farmers Market//pdxfarmersmarket.com//EN
CALSCALE:GREGORIAN
BEGIN:VTIMEZONE
TZID:America/Los_Angeles
BEGIN:STANDARD
DTSTART:19701101T020000
RRULE:FREQ=YEARLY;BYDAY=1SU;BYMONTH=11
TZOFFSETFROM:-0700
TZOFFSETTO:-0800
TZNAME:PST
END:STANDARD
BEGIN:DAYLIGHT
DTSTART:19700308T020000
RRULE:FREQ=YEARLY;BYDAY=2SU;BYMONTH=3
TZOFFSETFROM:-0800
TZOFFSETTO:-0700
TZNAME:PDT
END:DAYLIGHT
END:VTIMEZONE
BEGIN:VEVENT
UID:canby-farmers-market@pdxfarmersmarket.com
DTSTAMP:20260421T161935Z
DTSTART;TZID=America/Los_Angeles:20260502T100000
DTEND;TZID=America/Los_Angeles:20260502T140000
RRULE:FREQ=WEEKLY;BYDAY=SA;UNTIL=20261031T235959
SUMMARY:Canby Farmers Market
LOCATION:N Holly St between NW 2nd & NW 4th Ave\, Canby\, Portland\, OR
DESCRIPTION:A Saturday market in downtown Canby along N Holly Street featur
 ing local farmers\, hand crafters\, food artisans\, and nurseries. Located
  about 30 miles south of Portland in the heart of Clackamas County farm co
 untry\, Canby's market brings a genuine small-town feel with vendors drawn
  from the surrounding agricultural community.\n\nhttps://www.facebook.com/
 CanbyFarmersMarket/
URL:https://pdxfarmersmarket.com/markets/canby-farmers-market
END:VEVENT
END:VCALENDAR