BEGIN:VCALENDAR
VERSION:2.0
PRODID:-//PDX Farmers Market//pdxfarmersmarket.com//EN
CALSCALE:GREGORIAN
BEGIN:VTIMEZONE
TZID:America/Los_Angeles
BEGIN:STANDARD
DTSTART:19701101T020000
RRULE:FREQ=YEARLY;BYDAY=1SU;BYMONTH=11
TZOFFSETFROM:-0700
TZOFFSETTO:-0800
TZNAME:PST
END:STANDARD
BEGIN:DAYLIGHT
DTSTART:19700308T020000
RRULE:FREQ=YEARLY;BYDAY=2SU;BYMONTH=3
TZOFFSETFROM:-0800
TZOFFSETTO:-0700
TZNAME:PDT
END:DAYLIGHT
END:VTIMEZONE
BEGIN:VEVENT
UID:bull-mountain-farmers-market@pdxfarmersmarket.com
DTSTAMP:20260421T161942Z
DTSTART;TZID=America/Los_Angeles:20260502T090000
DTEND;TZID=America/Los_Angeles:20260502T140000
RRULE:FREQ=WEEKLY;BYDAY=SA,SU;UNTIL=20261031T235959
SUMMARY:Bull Mountain Farmers Market
LOCATION:Canterbury Square Center\, 14389 SW Pacific Hwy\, Tigard\, Portlan
 d\, OR
DESCRIPTION:A weekend market at Canterbury Square Center along SW Pacific H
 ighway in the Bull Mountain area of Tigard. Features locally grown food\, 
 fresh produce\, and artisan crafts\, and is one of the few Portland-area m
 arkets open both Saturdays and Sundays\, giving shoppers extra flexibility
  during the season.\n\nhttps://bullmountainfarmersmarket.com
URL:https://pdxfarmersmarket.com/markets/bull-mountain-farmers-market
END:VEVENT
END:VCALENDAR