BEGIN:VCALENDAR
VERSION:2.0
PRODID:-//PDX Farmers Market//pdxfarmersmarket.com//EN
CALSCALE:GREGORIAN
BEGIN:VTIMEZONE
TZID:America/Los_Angeles
BEGIN:STANDARD
DTSTART:19701101T020000
RRULE:FREQ=YEARLY;BYDAY=1SU;BYMONTH=11
TZOFFSETFROM:-0700
TZOFFSETTO:-0800
TZNAME:PST
END:STANDARD
BEGIN:DAYLIGHT
DTSTART:19700308T020000
RRULE:FREQ=YEARLY;BYDAY=2SU;BYMONTH=3
TZOFFSETFROM:-0800
TZOFFSETTO:-0700
TZNAME:PDT
END:DAYLIGHT
END:VTIMEZONE
BEGIN:VEVENT
UID:beaverton-farmers-market@pdxfarmersmarket.com
DTSTAMP:20260421T161925Z
DTSTART;TZID=America/Los_Angeles:20260425T083000
DTEND;TZID=America/Los_Angeles:20260425T133000
RRULE:FREQ=WEEKLY;BYDAY=SA
SUMMARY:Beaverton Farmers Market
LOCATION:12375 SW 5th St\, Beaverton\, Portland\, OR
DESCRIPTION:One of the largest farmers markets in the Portland metro area\,
  operating nearly year-round. Features a wide vendor selection with $1 EBT
  tokens and Double Up Food Bucks matching SNAP up to $20.\n\nhttps://www.b
 eavertonfarmersmarket.com
URL:https://pdxfarmersmarket.com/markets/beaverton-farmers-market
END:VEVENT
END:VCALENDAR